Workbook

Sheet STATUS
A1: ผลการใช้จ่ายงบประมาณเงินอุดหนุนเฉพาะกิจ ประจำปีงบประมาณ พ.ศ. 2569 แผนงานยุทธศาสตร์ส่งเสริมการกระจายอำนาจให้แก่องค์กรปกครองส่วนท้องถิ่น
A2: ผลผลิตจัดสรรเงินอุดหนุนให้แก่องค์กรปกครองส่วนท้องถิ่น (งบเงินอุดหนุนที่จัดสรรให้แก่องค์การบริหารส่วนตำบล)
A4: ข้อมูลจากระบบ e-Plan ณ วันที่ 14 สิงหาคม 2569 เวลา 18.00 น. | L4: หน่วย : บาท
A5: ลำดับ | B5: การจัดสรร | I5: ผลการดำเนินงาน | K5: หมายเหตุ | M5: ข้อมูลจากระบบ e-Plan | S5: การใช้จ่าย | W5: โครงสร้าง | Z5: การส่งคืนงบประมาณ
B6: รหัสงบประมาณ | C6: จังหวัด | D6: อำเภอ | E6: อปท. | F6: รายการงบประมาณตามใบจัดสรร | G6: งบประมาณ | H6: คงเหลือที่จังหวัด | I6: สถานะปัจจุบัน | J6: ผลการตรวจสอบข้อเท็จจริง และดำเนินการกับบุคคลที่เกี่ยวข้อง | K6: วันที่คาดว่าจะลงนาม | L6: เหตุผลที่ไม่สามารถ ก่อหนี้ผูกพันได้ | M6: สถานะสรุป (กบถ.) | N6: สถานะในระบบ e-Plan | O6: รายละเอียด ปัญหา (e-Plan) | P6: สถานะการลงนาม | Q6: ลงนาม e-Plan | R6: เบิกจ่าย e-Plan | S6: รวมส่งคืน | T6: ขอใช้ เงินเหลือจ่าย | U6: อนุมัติให้ใช้เงินเหลือจ่าย | V6: เงินค้างที่จังหวัด | W6: แหล่งงบประมาณ | X6: ประเภทรายการ (ย่อ) | Y6: ประเภทรายการเต็ม (เอกสารงบประมาณ) | Z6: การส่งคืนงบประมาณ
A7: =SUBTOTAL(3,$B$7:B7) -> 0 | B7: 15008390001004203099 | C7: นครศรีธรรมราช | D7: ขนอม | E7: อบต.ควนทอง | F7: ก่อสร้างถนนแอสฟัลท์ติกคอนกรีต รหัสทางหลวงท้องถิ่น นศ.ถ. 70-016 สายคลองวัง-คลองกัด หมู่ที่ 8 บ้านคลองวัง ตำบลควนทอง กว้าง 7.00 เมตร ยาว 1,500 เมตร หนา 0.05 เมตร หรือมีพื้นที่ไม่น้อยกว่า 10,500 ตารางเมตร องค์การบริหารส่วนตำบลควนทอง อำเภอขนอม จังหวัดนครศรีธรรมราช | G7: 8112000 | H7: 0 | I7: 1. ส่งคืนงบประมาณแล้ว | M7: 1. ส่งคืนงบประมาณแล้ว | N7: 1. ส่งคืนงบประมาณแล้ว | O7: ติดปัญหา ไม่ประสงค์ขอรับและส่งคืนโครงการ | P7: ยังไม่ได้ก่อหนี้ | Q7: 0 | R7: 0 | S7: 8112000 | T7: 0 | U7: 0 | V7: 0 | W7: พ.ร.บ. | X7: ถนนทางหลวงท้องถิ่น | Y7: 01. รายการ เงินอุดหนุนสำหรับก่อสร้าง/ปรับปรุงซ่อมแซมถนนทางหลวงท้องถิ่น | Z7: ส่งคืนทั้งรายการ
A8: =SUBTOTAL(3,$B$7:B8) -> 0 | B8: 15008390001004203100 | C8: นครศรีธรรมราช | D8: จุฬาภรณ์ | E8: อบต.ควนหนองคว้า | F8: ก่อสร้างถนนคอนกรีตเสริมเหล็ก รหัสทางหลวงท้องถิ่น นศ.ถ. 72-032 บ้านควนน้อย - สามแยกบ้านนายสุริยันต์ หมู่ที่ 2 บ้านดอนทราย ตำบลควนหนองคว้า กว้าง 5.00 เมตร ยาว 1,250.00 เมตร หนา 0.15 เมตร ไหล่ทางข้างละ 0.50 เมตร หรือพื้นที่ก่อสร้างไม่น้อยกว่า 6,250.00 ตารางเมตร องค์การบริหารส่วนตำบลควนหนองคว้า อำเภอจุฬาภรณ์ จังหวัดนครศรีธรรมราช | G8: 5020000 | H8: 3550000 | I8: 8. ลงนามในสัญญาก่อหนี้ผูกพันแล้ว | M8: 8. ลงนามในสัญญาก่อหนี้ผูกพันแล้ว | N8: 8. ลงนามในสัญญาก่อหนี้ผูกพันแล้ว | O8: 6. ลงนามในสัญญา และเริ่มก่อสร้าง | P8: ก่อหนี้แล้ว | Q8: 3550000 | R8: 0 | S8: 1470000 | T8: 0 | U8: 0 | V8: 0 | W8: พ.ร.บ. | X8: ถนนทางหลวงท้องถิ่น | Y8: 01. รายการ เงินอุดหนุนสำหรับก่อสร้าง/ปรับปรุงซ่อมแซมถนนทางหลวงท้องถิ่น | Z8: คืนเงินเหลือจ่าย
A9: =SUBTOTAL(3,$B$7:B9) -> 0 | B9: 15008390001004203101 | C9: นครศรีธรรมราช | D9: จุฬาภรณ์ | E9: อบต.ทุ่งโพธิ์ | F9: ซ่อมสร้างถนนลาดยางแอสฟัลติกคอนกรีต รหัสทางหลวงท้องถิ่น นศ.ถ.105-37 สายหน้ารร.วัดแร่ฯ-จดเขตเขาชุมทอง หมู่ที่ 2 บ้านโคกแร่ ตำบลทุ่งโพธิ์ กว้าง 5.00 เมตร ยาว 2,850.00 เมตร หนา 0.05 เมตร หรือมีพื้นที่ไม่น้อยกว่า 14,250.00 ตารางเมตร องค์การบริหารส่วนตำบลทุ่งโพธิ์ อำเภอจุฬาภรณ์ จังหวัดนครศรีธรรมราช | G9: 9854000 | H9: 8790000 | I9: โอนไปตั้งจ่ายเป็นรายการใหม่ | M9: โอนไปตั้งจ่ายเป็นรายการใหม่ | N9: 8. ลงนามในสัญญาก่อหนี้ผูกพันแล้ว | O9: 6. ลงนามในสัญญา และเริ่มก่อสร้าง | P9: ก่อหนี้แล้ว | Q9: 8790000 | R9: 8790000 | S9: 19000 | T9: 0 | U9: 1045000 | V9: 0 | W9: พ.ร.บ. | X9: ถนนทางหลวงท้องถิ่น | Y9: 01. รายการ เงินอุดหนุนสำหรับก่อสร้าง/ปรับปรุงซ่อมแซมถนนทางหลวงท้องถิ่น | Z9: คืนเงินเหลือจ่าย
A10: =SUBTOTAL(3,$B$7:B10) -> 0 | B10: 15008390001004202049 | C10: นครศรีธรรมราช | D10: จุฬาภรณ์ | E10: อบต.นาหมอบุญ | F10: พัฒนาแหล่งท่องเที่ยววัดสุทัศน์เทวเสถียร (วัดทุ่งไหม้) โดยก่อสร้างถนนคอนกรีตเสริมเหล็ก รหัสทางหลวงท้องถิ่น นศ.ถ.125-12 สายบ้านด่านประดู่ - บ้านดอนกลาง หมู่ที่ 2 ขนาดกว้าง 4.00 เมตร ยาว 725.00 เมตร หนา 0.15 เมตร หรือมีพื้นที่ไม่น้อยกว่า 2,900.00 ตารางเมตร พร้อมติดตั้งโคมไฟถนนแอลอีดีพลังงานแสงอาทิตย์แบบประกอบ จำนวน 12 ชุด องค์การบริหารส่วนตำบลนาหมอบุญ อำเภอจุฬาภรณ์ จังหวัดนครศรีธรรมราช | G10: 3525000 | H10: 2820000 | I10: 8. ลงนามในสัญญาก่อหนี้ผูกพันแล้ว | M10: 8. ลงนามในสัญญาก่อหนี้ผูกพันแล้ว | N10: 8. ลงนามในสัญญาก่อหนี้ผูกพันแล้ว | O10: 6. ลงนามในสัญญา และเริ่มก่อสร้าง | P10: ก่อหนี้แล้ว | Q10: 2820000 | R10: 0 | S10: 705000 | T10: 0 | U10: 0 | V10: 0 | W10: พ.ร.บ. | X10: แหล่งท่องเที่ยว | Y10: 10. รายการ เงินอุดหนุนสำหรับดำเนินการพัฒนาแหล่งท่องเที่ยว | Z10: คืนเงินเหลือจ่าย
A11: =SUBTOTAL(3,$B$7:B11) -> 0 | B11: 15008390001004203102 | C11: นครศรีธรรมราช | D11: จุฬาภรณ์ | E11: อบต.บ้านชะอวด | F11: ก่อสร้างถนนคอนกรีตเสริมเหล็ก รหัสทางหลวงท้องถิ่น นศ.ถ.136-10 สายควนโหนด-เขตตำบลบ้านตูล หมู่ที่ 3 ตำบลบ้านชะอวด ขนาดกว้าง 5.00 เมตร ยาว 1,903เมตร หนา 0.15 เมตร พื้นที่ไม่น้อยกว่า 9,515 ตารางเมตร องค์การบริหารส่วนตำบลบ้านชะอวด อำเภอจุฬาภรณ์ จังหวัดนครศรีธรรมราช | G11: 7428000 | H11: 3570000 | I11: 8. ลงนามในสัญญาก่อหนี้ผูกพันแล้ว | M11: 8. ลงนามในสัญญาก่อหนี้ผูกพันแล้ว | N11: 8. ลงนามในสัญญาก่อหนี้ผูกพันแล้ว | O11: 6. ลงนามในสัญญา และเริ่มก่อสร้าง | P11: ก่อหนี้แล้ว | Q11: 3570000 | R11: 0 | S11: 3858000 | T11: 0 | U11: 0 | V11: 0 | W11: พ.ร.บ. | X11: ถนนทางหลวงท้องถิ่น | Y11: 01. รายการ เงินอุดหนุนสำหรับก่อสร้าง/ปรับปรุงซ่อมแซมถนนทางหลวงท้องถิ่น | Z11: คืนเงินเหลือจ่าย
A12: =SUBTOTAL(3,$B$7:B12) -> 1 | B12: 15008390001004201021 | C12: นครศรีธรรมราช | D12: จุฬาภรณ์ | E12: อบต.สามตำบล | F12: พัฒนาแหล่งท่องเที่ยวจุดชมวิวสามตำบล หมูที่ 6 ตำบลสามตำบล โดยจัดซื้อพร้อมติดตั้งเสาไฟถนนไฟแอลอีดีพลังงานแสงอาทิตย์ จำนวน 135 ชุด องค์การบริหารส่วนตำบลสามตำบล อำเภอจุฬาภรณ์ จังหวัดนครศรีธรรมราช | G12: 7282000 | H12: 7282000 | I12: 5. ประกาศจัดซื้อจัดจ้าง/มีหนังสือเชิญหรือติดต่อผู้รับจ้าง | M12: 5. ประกาศจัดซื้อจัดจ้าง/มีหนังสือเชิญหรือติดต่อผู้รับจ้าง | N12: 5. ประกาศจัดซื้อจัดจ้าง/มีหนังสือเชิญหรือติดต่อผู้รับจ้าง | O12: 2. ประกาศจัดซื้อจัดจ้าง/มีหนังสือเชิญหรือติดต่อผู้รับจ้าง | P12: ยังไม่ได้ก่อหนี้ | Q12: 0 | R12: 0 | S12: 0 | T12: 0 | U12: 0 | V12: 7282000 | W12: พ.ร.บ. | X12: แหล่งท่องเที่ยว | Y12: 10. รายการ เงินอุดหนุนสำหรับดำเนินการพัฒนาแหล่งท่องเที่ยว | Z12: -
A13: =SUBTOTAL(3,$B$7:B13) -> 1 | B13: 15008390001004203103 | C13: นครศรีธรรมราช | D13: ฉวาง | E13: อบต.กะเปียด | F13: ปรับปรุงถนนคอนกรีตเสริมเหล็ก สายเลียบทางรถไฟ หมู่ที่ 1,หมู่ที่ 3 ตำบลกะเปียด โดยทำการปรับปรุงผิวจราจร คอนกรีตเสริมเหล็ก กว้าง 5 เมตร ยาว 880 เมตร หนา 0.15 เมตร หรือพื้นที่ผิวจราจรคอนกรีตเสริมเหล็ก ไม่น้อยกว่า 4,400 ตารางเมตร องค์การบริหารส่วนตำบลกะเปียด อำเภอฉวาง จังหวัดนครศรีธรรมราช | G13: 3600000 | H13: 2590000 | I13: 8. ลงนามในสัญญาก่อหนี้ผูกพันแล้ว | M13: 8. ลงนามในสัญญาก่อหนี้ผูกพันแล้ว | N13: 8. ลงนามในสัญญาก่อหนี้ผูกพันแล้ว | O13: 6. ลงนามในสัญญา และเริ่มก่อสร้าง | P13: ก่อหนี้แล้ว | Q13: 2590000 | R13: 2590000 | S13: 1010000 | T13: 0 | U13: 0 | V13: 0 | W13: พ.ร.บ. | X13: ถนนทางหลวงท้องถิ่น | Y13: 01. รายการ เงินอุดหนุนสำหรับก่อสร้าง/ปรับปรุงซ่อมแซมถนนทางหลวงท้องถิ่น | Z13: คืนเงินเหลือจ่าย
A14: =SUBTOTAL(3,$B$7:B14) -> 1 | B14: 15008390001004203104 | C14: นครศรีธรรมราช | D14: ฉวาง | E14: อบต.นาเขลียง | F14: ก่อสร้างถนนคอนกรีตเสริมเหล็ก สายปลายเภา - ห้วยกลาง (ช่วง 2) รหัสทางหลวงท้องถิ่น นศ.ถ. 114 - 05 หมู่ที่ 1 บ้านปลายเภา ตำบลนาเขลียง กว้าง 4.00 เมตร ยาว 1,066 เมตร หนา 0.15 เมตร (หรือมีพื้นที่ไม่น้อยกว่า 4,264 ตารางเมตร ) ไหล่ทางหินคลุกข้างละ 0.10 เมตร รายละเอียดตามแบบแปลนที่องค์การบริหารส่วนตำบลนาเขลียงกำหนด องค์การบริหารส่วนตำบลนาเขลียง อำเภอฉวาง จังหวัดนครศรีธรรมราช | G14: 2116800 | H14: 2116800 | I14: 8. ลงนามในสัญญาก่อหนี้ผูกพันแล้ว | M14: 8. ลงนามในสัญญาก่อหนี้ผูกพันแล้ว | N14: 8. ลงนามในสัญญาก่อหนี้ผูกพันแล้ว | O14: 6. ลงนามในสัญญา และเริ่มก่อสร้าง | P14: ก่อหนี้แล้ว | Q14: 1855000 | R14: 0 | S14: 0 | T14: 0 | U14: 0 | V14: 261800 | W14: พ.ร.บ. | X14: ถนนทางหลวงท้องถิ่น | Y14: 01. รายการ เงินอุดหนุนสำหรับก่อสร้าง/ปรับปรุงซ่อมแซมถนนทางหลวงท้องถิ่น | Z14: -
A15: =SUBTOTAL(3,$B$7:B15) -> 1 | B15: 15008390001004203105 | C15: นครศรีธรรมราช | D15: ฉวาง | E15: อบต.นาเขลียง | F15: ก่อสร้างถนนคอนกรีตเสริมเหล็ก สายซอยเฉลิมราษฎร์ เชื่อมต่อตำบลกะเปียด รหัสทางหลวงท้องถิ่น นศ.ถ. 114 - 08 หมู่ที่ 5 ตำบลนาเขลียง กว้าง 3.50 เมตร ยาว 559.00 เมตร หนา 0.15 เมตร (หรือมีพื้นที่ไม่น้อยกว่า 1,956.50 ตารางเมตร ) ไหล่ทางหินคลุกข้างละ 0.10 เมตร รายละเอียดตามแบบแปลนที่องค์การบริหารส่วนตำบลนาเขลียงกำหนด องค์การบริหารส่วนตำบลนาเขลียง อำเภอฉวาง จังหวัดนครศรีธรรมราช | G15: 1033000 | H15: 990000 | I15: 8. ลงนามในสัญญาก่อหนี้ผูกพันแล้ว | M15: 8. ลงนามในสัญญาก่อหนี้ผูกพันแล้ว | N15: 8. ลงนามในสัญญาก่อหนี้ผูกพันแล้ว | O15: 6. ลงนามในสัญญา และเริ่มก่อสร้าง | P15: ก่อหนี้แล้ว | Q15: 990000 | R15: 990000 | S15: 43000 | T15: 0 | U15: 0 | V15: 0 | W15: พ.ร.บ. | X15: ถนนทางหลวงท้องถิ่น | Y15: 01. รายการ เงินอุดหนุนสำหรับก่อสร้าง/ปรับปรุงซ่อมแซมถนนทางหลวงท้องถิ่น | Z15: คืนเงินเหลือจ่าย
A16: =SUBTOTAL(3,$B$7:B16) -> 1 | B16: 15008390001004203106 | C16: นครศรีธรรมราช | D16: ฉวาง | E16: อบต.นาแว | F16: ซ่อมสร้างถนนสายฝายทุ่งกระจูด หมู่ที่ 7 -ถนนดำห้วย ทรายขาว หมู่ที่ 10 รหัสทางหลวงท้องถิ่น นศ.ถ. 123-02 ขนาดผิวจราจร กว้าง 4.00 เมตร ระยะทางยาว 2,085 เมตร ความหนา 0.05 เมตร หรือมีพื้นที่ผิวจราจรไม่น้อยกว่า 8,340 ตารางเมตร พร้อมติดตั้งป้าย ประชาสัมพันธ์โครงการ จำนวน 1 ป้าย องค์การบริหาร ส่วนตำบลนาแว อำเภอฉวาง จังหวัดนครศรีธรรมราช | G16: 4403000 | H16: 2138000 | I16: โอนไปตั้งจ่ายเป็นรายการใหม่ | M16: โอนไปตั้งจ่ายเป็นรายการใหม่ | N16: 8. ลงนามในสัญญาก่อหนี้ผูกพันแล้ว | O16: 6. ลงนามในสัญญา และเริ่มก่อสร้าง | P16: ก่อหนี้แล้ว | Q16: 2138000 | R16: 2138000 | S16: 0 | T16: 0 | U16: 2265000 | V16: 0 | W16: พ.ร.บ. | X16: ถนนทางหลวงท้องถิ่น | Y16: 01. รายการ เงินอุดหนุนสำหรับก่อสร้าง/ปรับปรุงซ่อมแซมถนนทางหลวงท้องถิ่น | Z16: -
A17: =SUBTOTAL(3,$B$7:B17) -> 1 | B17: 15008390001004203107 | C17: นครศรีธรรมราช | D17: ฉวาง | E17: อบต.นาแว | F17: ซ่อมสร้างถนนสายควนโอ-บ้านนายอร่าม รหัสทางหลวงท้องถิ่น นศ.ถ. 123-06 หมู่ที่ 5 บ้านปากเปียด ตำบลนาแว ขนาดผิวจราจรกว้าง 4.00 เมตร ระยะทางยาว 1,250 เมตร ความหนา 0.05 เมตร หรือมีพื้นที่ผิวจราจรไม่น้อยกว่า 5,000 ตารางเมตร พร้อมติดตั้งป้ายประชาสัมพันธ์ โครงการ จำนวน 1 ป้าย องค์การบริหารส่วนตำบลนาแว อำเภอฉวาง จังหวัดนครศรีธรรมราช | G17: 2642000 | H17: 1284000 | I17: โอนไปตั้งจ่ายเป็นรายการใหม่ | M17: โอนไปตั้งจ่ายเป็นรายการใหม่ | N17: 8. ลงนามในสัญญาก่อหนี้ผูกพันแล้ว | O17: 6. ลงนามในสัญญา และเริ่มก่อสร้าง | P17: ก่อหนี้แล้ว | Q17: 1284000 | R17: 1284000 | S17: 0 | T17: 0 | U17: 1358000 | V17: 0 | W17: พ.ร.บ. | X17: ถนนทางหลวงท้องถิ่น | Y17: 01. รายการ เงินอุดหนุนสำหรับก่อสร้าง/ปรับปรุงซ่อมแซมถนนทางหลวงท้องถิ่น | Z17: -
A18: =SUBTOTAL(3,$B$7:B18) -> 1 | B18: 15008390001004203108 | C18: นครศรีธรรมราช | D18: ฉวาง | E18: อบต.ไม้เรียง | F18: ปรับปรุงซ่อมแซมถนนแอสฟัลท์ติกคอนกรีต รหัสทางหลวงท้องถิ่น นศ.ถ.156-03 สายเขาศูนย์ - บ้านปลายเส หมู่ที่ 9 บ้านตรอกไม้แดง และหมู่ที่ 10 บ้านควนนนท์ ตำบลไม้เรียง ปรับปรุงซ่อมแซมเป็นผิวจราจรแอสฟัลท์ติกคอนกรีต มีพื้นที่ไม่น้อยกว่า 11,900 ตารางเมตร องค์การบริหารส่วนตำบลไม้เรียง อำเภอฉวาง จังหวัดนครศรีธรรมราช | G18: 8980000 | H18: 8980000 | I18: 8. ลงนามในสัญญาก่อหนี้ผูกพันแล้ว | M18: 8. ลงนามในสัญญาก่อหนี้ผูกพันแล้ว | N18: 8. ลงนามในสัญญาก่อหนี้ผูกพันแล้ว | O18: 5. ลงนามในสัญญา แต่ยังไม่เริ่มก่อสร้าง | P18: ก่อหนี้แล้ว | Q18: 6800000 | R18: 0 | S18: 0 | T18: 0 | U18: 0 | V18: 2180000 | W18: พ.ร.บ. | X18: ถนนทางหลวงท้องถิ่น | Y18: 01. รายการ เงินอุดหนุนสำหรับก่อสร้าง/ปรับปรุงซ่อมแซมถนนทางหลวงท้องถิ่น | Z18: -
... A236: =SUBTOTAL(3,$B$7:B236) -> 22 | B236: 15008390001004209145 | C236: นครศรีธรรมราช | D236: หัวไทร | E236: อบต.หัวไทร | F236: ก่อสร้างถนนคอนกรีตเสริมเหล็ก รหัสทางหลวงท้องถิ่น นศ.ถ 180-43 สายท่าเสาร์ - อ่าวบ่อ หมู่ที่ 6 บ้านโคกหลวง กว้าง 4.00 เมตร ยาว 590.00 เมตร หนา 0.15 เมตร หรือมีพื้นที่ไม่น้อยกว่า 2,360.00 ตารางเมตร องค์การบริหารส่วนตำบลหัวไทร อำเภอหัวไทร จังหวัดนครศรีธรรมราช | G236: 2682000 | H236: 2682000 | I236: 4. กำหนดคุณลักษณะเฉพาะ (Spec)/ขอบเขตงาน (TOR) แล้วกำหนดราคากลาง | M236: 4. กำหนดคุณลักษณะเฉพาะ (Spec)/ขอบเขตงาน (TOR) แล้วกำหนดราคากลาง | N236: 4. กำหนดคุณลักษณะเฉพาะ (Spec)/ขอบเขตงาน (TOR) แล้วกำหนดราคากลาง | O236: 1. กำหนดคุณลักษณะเฉพาะ (Spec)/ขอบเขตงาน (TOR) แล้วกำหนดราคากลาง | P236: ยังไม่ได้ก่อหนี้ | Q236: 0 | R236: 0 | S236: 0 | T236: 0 | U236: 0 | V236: 2682000 | W236: โอนเปลี่ยนแปลง | X236: ถนนทางหลวงท้องถิ่น | Y236: 01. รายการ เงินอุดหนุนสำหรับก่อสร้าง/ปรับปรุงซ่อมแซมถนนทางหลวงท้องถิ่น | Z236: -
B237: ="รวมจำนวน " & TEXT(SUBTOTAL(3,B7:B236),"#,##0") & " รายการ" -> รวมจำนวน 22 รายการ | G237: =SUBTOTAL(9,G7:G236) -> 72447600 | H237: =SUBTOTAL(9,H7:H236) -> 72447600
D241: ลงชื่อ | G241: ผู้รายงาน | I241: ลงชื่อ | L241: ผู้รับรองรายงาน
E242: (..............................................................................) | J242: (..............................................................................)
E243: ปลัด......................................................................... | J243: นายก..............................................................................

Sheet Sheet2
A1: สรุปภาพรวมการใช้จ่ายงบประมาณเงินอุดหนุนเฉพาะกิจ ประจำปีงบประมาณ พ.ศ. 2569
A2: แผนงานยุทธศาสตร์ส่งเสริมการกระจายอำนาจให้แก่องค์กรปกครองส่วนท้องถิ่น
A3: นครศรีธรรมราช
G4: หน่วย : บาท
A5: สถานะปัจจุบัน | B5: พ.ร.บ. 2569 | D5: โอนเปลี่ยนแปลง | F5: รวมทั้งสิ้น
B6: รายการ | C6: งบประมาณ | D6: รายการ | E6: งบประมาณ | F6: รายการ | G6: งบประมาณ
A7: การจัดสรร | B7: =COUNTIFS(STATUS!$W$6:$W$236,"พ.ร.บ.", STATUS!$G$6:$G$236,">0") -> 175 | C7: =ROUND(SUMIFS( STATUS!$G$6:$G$236, STATUS!$W$6:$W$236,"พ.ร.บ." ), 2) -> 850208000 | D7: =COUNTIFS(STATUS!$W$6:$W$236,"โอนเปลี่ยนแปลง", STATUS!$G$6:$G$236,">0") -> 55 | E7: =ROUND(SUMIFS( STATUS!$G$6:$G$236, STATUS!$W$6:$W$236,"โอนเปลี่ยนแปลง" ), 2) -> 93270100 | F7: =SUM(B7+D7) -> 230 | G7: =SUM(C7+E7) -> 943478100
A8: =STATUS!A4 -> ข้อมูลจากระบบ e-Plan ณ วันที่ 14 สิงหาคม 2569 เวลา 18.00 น.
A9: 1. ส่งคืนงบประมาณแล้ว | B9: =COUNTIFS(STATUS!$M$6:$M$236, $A9,STATUS!$W$6:$W$236,"พ.ร.บ.",STATUS!$Z$6:$Z$236,"ส่งคืนทั้งรายการ", STATUS!$G$6:$G$236,">0") -> 3 | C9: =ROUND(IF($A9>0,SUMIFS( STATUS!$G$6:$G$236, STATUS!$M$6:$M$236, $A9,STATUS!$W$6:$W$236,"พ.ร.บ." ), 0), 2) -> 10732300 | D9: =COUNTIFS(STATUS!$M$6:$M$236, $A9,STATUS!$W$6:$W$236,"โอนเปลี่ยนแปลง",STATUS!$Z$6:$Z$236,"ส่งคืนทั้งรายการ", STATUS!$G$6:$G$236,">0") -> 0 | E9: =ROUND(IF($A9>0,SUMIFS( STATUS!$G$6:$G$236, STATUS!$M$6:$M$236, $A9,STATUS!$W$6:$W$236,"โอนเปลี่ยนแปลง" ), 0), 2) -> 0 | F9: =SUM(B9+D9) -> 3 | G9: =SUM(C9+E9) -> 10732300
A10: 2. ขอส่งคืนงบประมาณแต่ยังไม่มีหนังสือจังหวัด | B10: =COUNTIFS(STATUS!$M$6:$M$236, $A10,STATUS!$W$6:$W$236,"พ.ร.บ.", STATUS!$G$6:$G$236,">0") -> 0 | C10: =ROUND(IF($A10>0,SUMIFS( STATUS!$G$6:$G$236, STATUS!$M$6:$M$236, $A10,STATUS!$W$6:$W$236,"พ.ร.บ." ), 0), 2) -> 0 | D10: =COUNTIFS(STATUS!$M$6:$M$236, $A10,STATUS!$W$6:$W$236,"โอนเปลี่ยนแปลง", STATUS!$G$6:$G$236,">0") -> 0 | E10: =ROUND(IF($A10>0,SUMIFS( STATUS!$G$6:$G$236, STATUS!$M$6:$M$236, $A10,STATUS!$W$6:$W$236,"โอนเปลี่ยนแปลง" ), 0), 2) -> 0 | F10: =SUM(B10+D10) -> 0 | G10: =SUM(C10+E10) -> 0
A11: 3. ไม่พร้อมดำเนินการแต่ยังไม่ส่งคืนงบประมาณ | B11: =COUNTIFS(STATUS!$M$6:$M$236, $A11,STATUS!$W$6:$W$236,"พ.ร.บ.", STATUS!$G$6:$G$236,">0") -> 0 | C11: =ROUND(IF($A11>0,SUMIFS( STATUS!$G$6:$G$236, STATUS!$M$6:$M$236, $A11,STATUS!$W$6:$W$236,"พ.ร.บ." ), 0), 2) -> 0 | D11: =COUNTIFS(STATUS!$M$6:$M$236, $A11,STATUS!$W$6:$W$236,"โอนเปลี่ยนแปลง", STATUS!$G$6:$G$236,">0") -> 0 | E11: =ROUND(IF($A11>0,SUMIFS( STATUS!$G$6:$G$236, STATUS!$M$6:$M$236, $A11,STATUS!$W$6:$W$236,"โอนเปลี่ยนแปลง" ), 0), 2) -> 0 | F11: =SUM(B11+D11) -> 0 | G11: =SUM(C11+E11) -> 0
A12: 4. กำหนดคุณลักษณะเฉพาะ (Spec)/ขอบเขตงาน (TOR) แล้วกำหนดราคากลาง | B12: =COUNTIFS(STATUS!$M$6:$M$236, $A12,STATUS!$W$6:$W$236,"พ.ร.บ.", STATUS!$G$6:$G$236,">0") -> 2 | C12: =ROUND(IF($A12>0,SUMIFS( STATUS!$G$6:$G$236, STATUS!$M$6:$M$236, $A12,STATUS!$W$6:$W$236,"พ.ร.บ." ), 0), 2) -> 15907000 | D12: =COUNTIFS(STATUS!$M$6:$M$236, $A12,STATUS!$W$6:$W$236,"โอนเปลี่ยนแปลง", STATUS!$G$6:$G$236,">0") -> 3 | E12: =ROUND(IF($A12>0,SUMIFS( STATUS!$G$6:$G$236, STATUS!$M$6:$M$236, $A12,STATUS!$W$6:$W$236,"โอนเปลี่ยนแปลง" ), 0), 2) -> 11173000 | F12: =SUM(B12+D12) -> 5 | G12: =SUM(C12+E12) -> 27080000
A13: 5. ประกาศจัดซื้อจัดจ้าง/มีหนังสือเชิญหรือติดต่อผู้รับจ้าง | B13: =COUNTIFS(STATUS!$M$6:$M$236, $A13,STATUS!$W$6:$W$236,"พ.ร.บ.", STATUS!$G$6:$G$236,">0") -> 2 | C13: =ROUND(IF($A13>0,SUMIFS( STATUS!$G$6:$G$236, STATUS!$M$6:$M$236, $A13,STATUS!$W$6:$W$236,"พ.ร.บ." ), 0), 2) -> 13142000 | D13: =COUNTIFS(STATUS!$M$6:$M$236, $A13,STATUS!$W$6:$W$236,"โอนเปลี่ยนแปลง", STATUS!$G$6:$G$236,">0") -> 2 | E13: =ROUND(IF($A13>0,SUMIFS( STATUS!$G$6:$G$236, STATUS!$M$6:$M$236, $A13,STATUS!$W$6:$W$236,"โอนเปลี่ยนแปลง" ), 0), 2) -> 1486500 | F13: =SUM(B13+D13) -> 4 | G13: =SUM(C13+E13) -> 14628500
A14: 6. พิจารณาผลการจัดซื้อจัดจ้าง(e-market/e-bidding) | B14: =COUNTIFS(STATUS!$M$6:$M$236, $A14,STATUS!$W$6:$W$236,"พ.ร.บ.", STATUS!$G$6:$G$236,">0") -> 3 | C14: =ROUND(IF($A14>0,SUMIFS( STATUS!$G$6:$G$236, STATUS!$M$6:$M$236, $A14,STATUS!$W$6:$W$236,"พ.ร.บ." ), 0), 2) -> 7402000 | D14: =COUNTIFS(STATUS!$M$6:$M$236, $A14,STATUS!$W$6:$W$236,"โอนเปลี่ยนแปลง", STATUS!$G$6:$G$236,">0") -> 5 | E14: =ROUND(IF($A14>0,SUMIFS( STATUS!$G$6:$G$236, STATUS!$M$6:$M$236, $A14,STATUS!$W$6:$W$236,"โอนเปลี่ยนแปลง" ), 0), 2) -> 13849300 | F14: =SUM(B14+D14) -> 8 | G14: =SUM(C14+E14) -> 21251300
A15: 7. อนุมัติผลการจัดซื้อจัดจ้าง (รอลงนาม) | B15: =COUNTIFS(STATUS!$M$6:$M$236, $A15,STATUS!$W$6:$W$236,"พ.ร.บ.", STATUS!$G$6:$G$236,">0") -> 0 | C15: =ROUND(IF($A15>0,SUMIFS( STATUS!$G$6:$G$236, STATUS!$M$6:$M$236, $A15,STATUS!$W$6:$W$236,"พ.ร.บ." ), 0), 2) -> 0 | D15: =COUNTIFS(STATUS!$M$6:$M$236, $A15,STATUS!$W$6:$W$236,"โอนเปลี่ยนแปลง", STATUS!$G$6:$G$236,">0") -> 5 | E15: =ROUND(IF($A15>0,SUMIFS( STATUS!$G$6:$G$236, STATUS!$M$6:$M$236, $A15,STATUS!$W$6:$W$236,"โอนเปลี่ยนแปลง" ), 0), 2) -> 9487800 | F15: =SUM(B15+D15) -> 5 | G15: =SUM(C15+E15) -> 9487800
A16: 8. ลงนามในสัญญาก่อหนี้ผูกพันแล้ว | B16: =COUNTIFS(STATUS!$M$6:$M$236, $A16,STATUS!$W$6:$W$236,"พ.ร.บ.", STATUS!$G$6:$G$236,">0",STATUS!$P$6:$P$236,"ก่อหนี้แล้ว") -> 112 | C16: =ROUND(IF($A16>0,SUMIFS( STATUS!$G$6:$G$236, STATUS!$M$6:$M$236, $A16,STATUS!$W$6:$W$236,"พ.ร.บ.",STATUS!$P$6:$P$236,"ก่อหนี้แล้ว" ), 0), 2) -> 511796500 | D16: =COUNTIFS(STATUS!$M$6:$M$236, $A16,STATUS!$W$6:$W$236,"โอนเปลี่ยนแปลง", STATUS!$G$6:$G$236,">0",STATUS!$P$6:$P$236,"ก่อหนี้แล้ว") -> 40 | E16: =ROUND(IF($A16>0,SUMIFS( STATUS!$G$6:$G$236, STATUS!$M$6:$M$236, $A16,STATUS!$W$6:$W$236,"โอนเปลี่ยนแปลง",STATUS!$P$6:$P$236,"ก่อหนี้แล้ว" ), 0), 2) -> 57273500 | F16: =SUM(B16+D16) -> 152 | G16: =SUM(C16+E16) -> 569070000
A17: วงเงินสัญญา | B17: =COUNTIFS(STATUS!$W$6:$W$236,"พ.ร.บ.", STATUS!$G$6:$G$236,">0",STATUS!$P$6:$P$236,"ก่อหนี้แล้ว") -> 165 | C17: =ROUND(SUMIFS( STATUS!$Q$6:$Q$236, STATUS!$W$6:$W$236,"พ.ร.บ.",STATUS!$P$6:$P$236,"ก่อหนี้แล้ว" ), 2) -> 6.4899341e+08 | D17: =COUNTIFS(STATUS!$W$6:$W$236,"โอนเปลี่ยนแปลง", STATUS!$G$6:$G$236,">0",STATUS!$P$6:$P$236,"ก่อหนี้แล้ว") -> 40 | E17: =ROUND(SUMIFS( STATUS!$Q$6:$Q$236, STATUS!$W$6:$W$236,"โอนเปลี่ยนแปลง",STATUS!$P$6:$P$236,"ก่อหนี้แล้ว" ), 2) -> 44639372 | F17: =SUM(B17+D17) -> 205 | G17: =SUM(C17+E17) -> 6.9363278e+08
A18: ผลการเบิกจ่าย | B18: =COUNTIFS(STATUS!$W$6:$W$236,"พ.ร.บ.", STATUS!$R$6:$R$236,">0") -> 133 | C18: =ROUND(SUMIFS( STATUS!$R$6:$R$236, STATUS!$W$6:$W$236,"พ.ร.บ." ), 2) -> 4.84182e+08 | D18: =COUNTIFS(STATUS!$W$6:$W$236,"โอนเปลี่ยนแปลง", STATUS!$R$6:$R$236,">0") -> 7 | E18: =ROUND(SUMIFS( STATUS!$R$6:$R$236, STATUS!$W$6:$W$236,"โอนเปลี่ยนแปลง" ), 2) -> 12238275 | F18: =SUM(B18+D18) -> 140 | G18: =SUM(C18+E18) -> 4.9642027e+08
A19: ยังไม่ได้รายงานผล | B19: =COUNTIFS(STATUS!$M$6:$M$236, $A19,STATUS!$W$6:$W$236,"พ.ร.บ.", STATUS!$G$6:$G$236,">0") -> 0 | C19: =ROUND(IF($A19>0,SUMIFS( STATUS!$G$6:$G$236, STATUS!$M$6:$M$236, $A19,STATUS!$W$6:$W$236,"พ.ร.บ." ), 0), 2) -> 0 | D19: =COUNTIFS(STATUS!$M$6:$M$236, $A19,STATUS!$W$6:$W$236,"โอนเปลี่ยนแปลง", STATUS!$G$6:$G$236,">0") -> 0 | E19: =ROUND(IF($A19>0,SUMIFS( STATUS!$G$6:$G$236, STATUS!$M$6:$M$236, $A19,STATUS!$W$6:$W$236,"โอนเปลี่ยนแปลง" ), 0), 2) -> 0 | F19: =SUM(B19+D19) -> 0 | G19: =SUM(C19+E19) -> 0
A20: โอนไปตั้งจ่ายเป็นรายการใหม่ | B20: =COUNTIFS(STATUS!$M$6:$M$236, $A20,STATUS!$W$6:$W$236,"พ.ร.บ.", STATUS!$G$6:$G$236,">0") -> 53 | C20: =ROUND(IF($A20>0,SUMIFS( STATUS!$G$6:$G$236, STATUS!$M$6:$M$236, $A20,STATUS!$W$6:$W$236,"พ.ร.บ." ), 0), 2) -> 291228200 | D20: =COUNTIFS(STATUS!$M$6:$M$236, $A20,STATUS!$W$6:$W$236,"โอนเปลี่ยนแปลง", STATUS!$G$6:$G$236,">0") -> 0 | E20: =ROUND(IF($A20>0,SUMIFS( STATUS!$G$6:$G$236, STATUS!$M$6:$M$236, $A20,STATUS!$W$6:$W$236,"โอนเปลี่ยนแปลง" ), 0), 2) -> 0 | F20: =SUM(B20+D20) -> 53 | G20: =SUM(C20+E20) -> 291228200
A21: การใช้จ่าย
A22: จัดสรร | B22: =B7 -> 175 | C22: =C7 -> 850208000 | D22: =D7 -> 55 | E22: =E7 -> 93270100 | F22: =SUM(B22+D22) -> 230 | G22: =SUM(C22+E22) -> 943478100
A23: การอนุมัติให้ใช้เงินเหลือจ่าย | B23: =COUNTIFS(STATUS!$W$6:$W$236,"พ.ร.บ.", STATUS!$U$6:$U$236,">0") -> 53 | C23: =ROUND(SUMIFS( STATUS!$U$6:$U$236, STATUS!$W$6:$W$236,"พ.ร.บ." ), 2) -> 75350100 | D23: =COUNTIFS(STATUS!$W$6:$W$236,"โอนเปลี่ยนแปลง", STATUS!$U$6:$U$236,">0") -> 0 | E23: =ROUND(SUMIFS( STATUS!$U$6:$U$236, STATUS!$W$6:$W$236,"โอนเปลี่ยนแปลง" ), 2) -> 0 | F23: =SUM(B23+D23) -> 53 | G23: =SUM(C23+E23) -> 75350100
A24: จังหวัดรายงานส่งคืนงบประมาณ (ส่งหนังสือและไฟล์ Excel ทางอีเมล subsidy2569@gmail.com) | B24: =COUNTIFS(STATUS!$W$6:$W$236,"พ.ร.บ.", STATUS!$S$6:$S$236,">0") -> 139 | C24: =ROUND(SUMIFS( STATUS!$S$6:$S$236, STATUS!$W$6:$W$236,"พ.ร.บ." ), 2) -> 81942858 | D24: =COUNTIFS(STATUS!$W$6:$W$236,"โอนเปลี่ยนแปลง", STATUS!$S$6:$S$236,">0") -> 11 | E24: =ROUND(SUMIFS( STATUS!$S$6:$S$236, STATUS!$W$6:$W$236,"โอนเปลี่ยนแปลง" ), 2) -> 1469227 | F24: =SUM(B24+D24) -> 150 | G24: =SUM(C24+E24) -> 83412085
A25: คงเหลืองบประมาณที่จังหวัด | B25: =SUM(B22-B9) -> 172 | C25: =ROUND(SUM(C22-(C23+C24)),2) -> 6.9291504e+08 | D25: =SUM(D22-D9) -> 55 | E25: =ROUND(SUM(E22-(E23+E24)),2) -> 91800873 | F25: =SUM(B25+D25) -> 227 | G25: =SUM(C25+E25) -> 7.8471592e+08
A26: เงินค้างที่จังหวัด | B26: =SUM(B27:B28) -> 18 | C26: =SUM(C27:C28) -> 43921636 | D26: =SUM(D27:D28) -> 37 | E26: =SUM(E27:E28) -> 47161501 | F26: =SUM(B26+D26) -> 55 | G26: =SUM(C26+E26) -> 91083137
A27: เงินค้างที่จังหวัด (รายการที่ก่อหนี้แล้ว) | B27: =COUNTIFS(STATUS!$W$6:$W$236,"พ.ร.บ.",STATUS!$P$6:$P$236,"ก่อหนี้แล้ว", STATUS!$V$6:$V$236,">0") -> 11 | C27: =ROUND(SUMIFS( STATUS!$V$6:$V$236, STATUS!$W$6:$W$236,"พ.ร.บ.",STATUS!$P$6:$P$236,"ก่อหนี้แล้ว",STATUS!$V$6:$V$236,">0" ), 2) -> 7470636.3 | D27: =COUNTIFS(STATUS!$W$6:$W$236,"โอนเปลี่ยนแปลง",STATUS!$P$6:$P$236,"ก่อหนี้แล้ว", STATUS!$V$6:$V$236,">0") -> 22 | E27: =ROUND(SUMIFS( STATUS!$V$6:$V$236, STATUS!$W$6:$W$236,"โอนเปลี่ยนแปลง",STATUS!$P$6:$P$236,"ก่อหนี้แล้ว",STATUS!$V$6:$V$236,">0" ), 2) -> 11164901 | F27: =SUM(B27+D27) -> 33 | G27: =SUM(C27+E27) -> 18635537
A28: เงินค้างที่จังหวัด (รายการที่ยังไม่ได้ก่อหนี้) | B28: =COUNTIFS(STATUS!$W$6:$W$236,"พ.ร.บ.",STATUS!$P$6:$P$236,"ยังไม่ได้ก่อหนี้", STATUS!$V$6:$V$236,">0") -> 7 | C28: =ROUND(SUMIFS( STATUS!$V$6:$V$236, STATUS!$W$6:$W$236,"พ.ร.บ.",STATUS!$P$6:$P$236,"ยังไม่ได้ก่อหนี้",STATUS!$V$6:$V$236,">0" ), 2) -> 36451000 | D28: =COUNTIFS(STATUS!$W$6:$W$236,"โอนเปลี่ยนแปลง",STATUS!$P$6:$P$236,"ยังไม่ได้ก่อหนี้", STATUS!$V$6:$V$236,">0") -> 15 | E28: =ROUND(SUMIFS( STATUS!$V$6:$V$236, STATUS!$W$6:$W$236,"โอนเปลี่ยนแปลง",STATUS!$P$6:$P$236,"ยังไม่ได้ก่อหนี้",STATUS!$V$6:$V$236,">0" ), 2) -> 35996600 | F28: =SUM(B28+D28) -> 22 | G28: =SUM(C28+E28) -> 72447600
G29: กองบริหารงานท้องถิ่น (กลุ่มงานกระจายอำนาจและงบประมาณเงินอุดหนุนท้องถิ่น)
G30: ข้อมูลประมวลผลภายหลังจาก อปท. รายงานผ่านระบบ e-Plan ณ วันที่ 14 สิงหาคม 2569 เวลา 18.00 น.
